BEGIN:VCALENDAR
VERSION:2.0
PRODID:-//PRSA Bluegrass - ECPv6.15.11//NONSGML v1.0//EN
CALSCALE:GREGORIAN
METHOD:PUBLISH
X-ORIGINAL-URL:https://prsabluegrass.org
X-WR-CALDESC:Events for PRSA Bluegrass
REFRESH-INTERVAL;VALUE=DURATION:PT1H
X-Robots-Tag:noindex
X-PUBLISHED-TTL:PT1H
BEGIN:VTIMEZONE
TZID:America/Kentucky/Louisville
BEGIN:DAYLIGHT
TZOFFSETFROM:-0500
TZOFFSETTO:-0400
TZNAME:EDT
DTSTART:20240310T070000
END:DAYLIGHT
BEGIN:STANDARD
TZOFFSETFROM:-0400
TZOFFSETTO:-0500
TZNAME:EST
DTSTART:20241103T060000
END:STANDARD
BEGIN:DAYLIGHT
TZOFFSETFROM:-0500
TZOFFSETTO:-0400
TZNAME:EDT
DTSTART:20250309T070000
END:DAYLIGHT
BEGIN:STANDARD
TZOFFSETFROM:-0400
TZOFFSETTO:-0500
TZNAME:EST
DTSTART:20251102T060000
END:STANDARD
BEGIN:DAYLIGHT
TZOFFSETFROM:-0500
TZOFFSETTO:-0400
TZNAME:EDT
DTSTART:20260308T070000
END:DAYLIGHT
BEGIN:STANDARD
TZOFFSETFROM:-0400
TZOFFSETTO:-0500
TZNAME:EST
DTSTART:20261101T060000
END:STANDARD
END:VTIMEZONE
BEGIN:VEVENT
DTSTART;TZID=America/Kentucky/Louisville:20250827T083000
DTEND;TZID=America/Kentucky/Louisville:20250827T100000
DTSTAMP:20260423T202925
CREATED:20250819T020654Z
LAST-MODIFIED:20250819T020801Z
UID:55209-1756283400-1756288800@prsabluegrass.org
SUMMARY:The AI ADvantage: Joint PRSA + AAF Event
DESCRIPTION:Join us for our August program\, The AI ADvantage: Transforming Advertising and PR with Intelligent Tools. \nWe are teaming up with our friends at AAF-Louisville to hear from a panel of industry experts on how to AI is transforming and empowering the PR\, communications and advertising space. \nPanelists:\n– Dr. Jeff Guan – Associate Dean\, College of Business\, UofL\n– Lee Dorsey – President\, Doe-Anderson\n– Alan Blount – Senior Technical Product Manager\, Google \nThe event will occur on Wednesday\, August 27\, 2025.\n– 8:30am – 9am – Networking\n– 9am – 10am – Panel discussion and Q/A \nLocation: Story Louisville\, 828 E Market St\, Louisville\, KY 40206\nDate and time: Wed\, Aug 27\, 2025 8:30 AM \nRSVP HERE.
URL:https://prsabluegrass.org/event/the-ai-advantage-joint-prsa-aaf-event/
LOCATION:KY
ATTACH;FMTTYPE=image/png:https://prsabluegrass.org/wp-content/uploads/2025/08/0.png
END:VEVENT
END:VCALENDAR