BEGIN:VCALENDAR
VERSION:2.0
PRODID:-//PRSA Bluegrass - ECPv6.15.11//NONSGML v1.0//EN
CALSCALE:GREGORIAN
METHOD:PUBLISH
X-ORIGINAL-URL:https://prsabluegrass.org
X-WR-CALDESC:Events for PRSA Bluegrass
REFRESH-INTERVAL;VALUE=DURATION:PT1H
X-Robots-Tag:noindex
X-PUBLISHED-TTL:PT1H
BEGIN:VTIMEZONE
TZID:America/Kentucky/Louisville
BEGIN:DAYLIGHT
TZOFFSETFROM:-0500
TZOFFSETTO:-0400
TZNAME:EDT
DTSTART:20230312T070000
END:DAYLIGHT
BEGIN:STANDARD
TZOFFSETFROM:-0400
TZOFFSETTO:-0500
TZNAME:EST
DTSTART:20231105T060000
END:STANDARD
BEGIN:DAYLIGHT
TZOFFSETFROM:-0500
TZOFFSETTO:-0400
TZNAME:EDT
DTSTART:20240310T070000
END:DAYLIGHT
BEGIN:STANDARD
TZOFFSETFROM:-0400
TZOFFSETTO:-0500
TZNAME:EST
DTSTART:20241103T060000
END:STANDARD
BEGIN:DAYLIGHT
TZOFFSETFROM:-0500
TZOFFSETTO:-0400
TZNAME:EDT
DTSTART:20250309T070000
END:DAYLIGHT
BEGIN:STANDARD
TZOFFSETFROM:-0400
TZOFFSETTO:-0500
TZNAME:EST
DTSTART:20251102T060000
END:STANDARD
END:VTIMEZONE
BEGIN:VEVENT
DTSTART;TZID=America/Kentucky/Louisville:20241017T170000
DTEND;TZID=America/Kentucky/Louisville:20241017T210000
DTSTAMP:20260423T233728
CREATED:20240625T201448Z
LAST-MODIFIED:20240826T150520Z
UID:55000-1729184400-1729198800@prsabluegrass.org
SUMMARY:2024 Landmarks of Excellence Awards
DESCRIPTION:Join us to celebrate this year’s Landmarks of Excellence Awards at The Refinery South in Jeffersonville\, Indiana. \nTickets include food and two drink tickets. A cash bar will be available for additional beverages. \n5 p.m. – cocktails\, networking and a silent auction\n6:30 p.m. – dinner and awards program \nTickets can be purchased by credit card (processing fees apply)\, or by check. If check is preferred\, please email info@prsabluegrass.org. Click here to purchase tickets. \nIndividual Prices:\n$75 per ticket \nTable Prices:\n$500/table of 8\n$900/2 tables (16 seats) \nWe are looking for event sponsors and silent auction donors! Email landmarkslou@gmail.com.
URL:https://prsabluegrass.org/event/2024-landmarks-of-excellence-awards/
LOCATION:The Refinery South\, 450 Missouri Avenue\, Jeffersonville\, IN\, 47130\, United States
ATTACH;FMTTYPE=image/png:https://prsabluegrass.org/wp-content/uploads/2024/06/Untitled-design-55.png
END:VEVENT
END:VCALENDAR