BEGIN:VCALENDAR
VERSION:2.0
PRODID:-//PRSA Bluegrass - ECPv6.15.11//NONSGML v1.0//EN
CALSCALE:GREGORIAN
METHOD:PUBLISH
X-WR-CALNAME:PRSA Bluegrass
X-ORIGINAL-URL:https://prsabluegrass.org
X-WR-CALDESC:Events for PRSA Bluegrass
REFRESH-INTERVAL;VALUE=DURATION:PT1H
X-Robots-Tag:noindex
X-PUBLISHED-TTL:PT1H
BEGIN:VTIMEZONE
TZID:America/Kentucky/Louisville
BEGIN:DAYLIGHT
TZOFFSETFROM:-0500
TZOFFSETTO:-0400
TZNAME:EDT
DTSTART:20230312T070000
END:DAYLIGHT
BEGIN:STANDARD
TZOFFSETFROM:-0400
TZOFFSETTO:-0500
TZNAME:EST
DTSTART:20231105T060000
END:STANDARD
BEGIN:DAYLIGHT
TZOFFSETFROM:-0500
TZOFFSETTO:-0400
TZNAME:EDT
DTSTART:20240310T070000
END:DAYLIGHT
BEGIN:STANDARD
TZOFFSETFROM:-0400
TZOFFSETTO:-0500
TZNAME:EST
DTSTART:20241103T060000
END:STANDARD
BEGIN:DAYLIGHT
TZOFFSETFROM:-0500
TZOFFSETTO:-0400
TZNAME:EDT
DTSTART:20250309T070000
END:DAYLIGHT
BEGIN:STANDARD
TZOFFSETFROM:-0400
TZOFFSETTO:-0500
TZNAME:EST
DTSTART:20251102T060000
END:STANDARD
END:VTIMEZONE
BEGIN:VEVENT
DTSTART;TZID=America/Kentucky/Louisville:20240822T170000
DTEND;TZID=America/Kentucky/Louisville:20240822T190000
DTSTAMP:20260424T025343
CREATED:20240802T135819Z
LAST-MODIFIED:20240802T135819Z
UID:55031-1724346000-1724353200@prsabluegrass.org
SUMMARY:August PRSA Program: Meet the Media and Happy Hour
DESCRIPTION:Join us for a Meet the Media and Happy Hour event at The Manhattan Project on Thursday\, August 22\, from 5 p.m. to 7 p.m.! \nPanelists include:\nPaul Miles\, 840 WHAS\nMary Irby Jones\, Courier Journal\nAmelia Frazier Theobald\, Voice-Tribune\nBrian Shlonsky\, WAVE News\nCaray Grace\, WLKY News \nTickets are $25 for members and $35 for non-members and include appetizers and one beer or wine drink ticket. \nNetworking: 5:00 p.m. to 5:30 p.m.\nPanel: 5:30 p.m. to 6:30 p.m.\nMeet the panelists: 6:30 p.m. to 7 p.m. \nClick here to purchase tickets.
URL:https://prsabluegrass.org/event/august-prsa-program-meet-the-media-and-happy-hour/
LOCATION:The Manhattan Project\, 2101 Frankfort Ave\, Louisville\, 40206\, United States
ATTACH;FMTTYPE=image/png:https://prsabluegrass.org/wp-content/uploads/2024/08/PRSA-Graphics-44-1.png
END:VEVENT
END:VCALENDAR