BEGIN:VCALENDAR
VERSION:2.0
PRODID:-//PRSA Bluegrass - ECPv6.15.11//NONSGML v1.0//EN
CALSCALE:GREGORIAN
METHOD:PUBLISH
X-ORIGINAL-URL:https://prsabluegrass.org
X-WR-CALDESC:Events for PRSA Bluegrass
REFRESH-INTERVAL;VALUE=DURATION:PT1H
X-Robots-Tag:noindex
X-PUBLISHED-TTL:PT1H
BEGIN:VTIMEZONE
TZID:America/Kentucky/Louisville
BEGIN:DAYLIGHT
TZOFFSETFROM:-0500
TZOFFSETTO:-0400
TZNAME:EDT
DTSTART:20230312T070000
END:DAYLIGHT
BEGIN:STANDARD
TZOFFSETFROM:-0400
TZOFFSETTO:-0500
TZNAME:EST
DTSTART:20231105T060000
END:STANDARD
BEGIN:DAYLIGHT
TZOFFSETFROM:-0500
TZOFFSETTO:-0400
TZNAME:EDT
DTSTART:20240310T070000
END:DAYLIGHT
BEGIN:STANDARD
TZOFFSETFROM:-0400
TZOFFSETTO:-0500
TZNAME:EST
DTSTART:20241103T060000
END:STANDARD
BEGIN:DAYLIGHT
TZOFFSETFROM:-0500
TZOFFSETTO:-0400
TZNAME:EDT
DTSTART:20250309T070000
END:DAYLIGHT
BEGIN:STANDARD
TZOFFSETFROM:-0400
TZOFFSETTO:-0500
TZNAME:EST
DTSTART:20251102T060000
END:STANDARD
END:VTIMEZONE
BEGIN:VEVENT
DTSTART;TZID=America/Kentucky/Louisville:20240625T113000
DTEND;TZID=America/Kentucky/Louisville:20240625T130000
DTSTAMP:20260424T061752
CREATED:20240529T184328Z
LAST-MODIFIED:20240529T184457Z
UID:54929-1719315000-1719320400@prsabluegrass.org
SUMMARY:Communicating Opportunity: West Louisville & Beyond
DESCRIPTION:Join our PRSA Bluegrass Chapter for an insightful discussion on the exciting growth and developments in West Louisville and beyond. This event will feature a panel discussion focusing on recent projects\, their impact on job creation\, and economic development in the Louisville community and how those opportunities are being communicated. Following the panel discussion\, attendees will have the chance to participate in a group tour of the Goodwill West Louisville Opportunity Center. \nNetworking will begin at 11:30 a.m.\, with the program being held from noon-1 p.m. A tour will follow. \nTickets are $25 for PRSA members and $35 for non-members. Click here to purchase tickets. \nLocation:\nGoodwill West Louisville Opportunity Center\n2820 W Broadway\,\nLouisville\, KY 40211
URL:https://prsabluegrass.org/event/communicating-opportunity-west-louisville-beyond/
LOCATION:Goodwill Opportunity Center\, 2820 W Broadway\, Louisvile\, KY\, 40211\, United States
ATTACH;FMTTYPE=image/png:https://prsabluegrass.org/wp-content/uploads/2024/05/PRSA-Graphics-20.png
END:VEVENT
END:VCALENDAR