BEGIN:VCALENDAR
VERSION:2.0
PRODID:-//PRSA Bluegrass - ECPv6.15.11//NONSGML v1.0//EN
CALSCALE:GREGORIAN
METHOD:PUBLISH
X-ORIGINAL-URL:https://prsabluegrass.org
X-WR-CALDESC:Events for PRSA Bluegrass
REFRESH-INTERVAL;VALUE=DURATION:PT1H
X-Robots-Tag:noindex
X-PUBLISHED-TTL:PT1H
BEGIN:VTIMEZONE
TZID:America/Kentucky/Louisville
BEGIN:DAYLIGHT
TZOFFSETFROM:-0500
TZOFFSETTO:-0400
TZNAME:EDT
DTSTART:20230312T070000
END:DAYLIGHT
BEGIN:STANDARD
TZOFFSETFROM:-0400
TZOFFSETTO:-0500
TZNAME:EST
DTSTART:20231105T060000
END:STANDARD
BEGIN:DAYLIGHT
TZOFFSETFROM:-0500
TZOFFSETTO:-0400
TZNAME:EDT
DTSTART:20240310T070000
END:DAYLIGHT
BEGIN:STANDARD
TZOFFSETFROM:-0400
TZOFFSETTO:-0500
TZNAME:EST
DTSTART:20241103T060000
END:STANDARD
BEGIN:DAYLIGHT
TZOFFSETFROM:-0500
TZOFFSETTO:-0400
TZNAME:EDT
DTSTART:20250309T070000
END:DAYLIGHT
BEGIN:STANDARD
TZOFFSETFROM:-0400
TZOFFSETTO:-0500
TZNAME:EST
DTSTART:20251102T060000
END:STANDARD
END:VTIMEZONE
BEGIN:VEVENT
DTSTART;TZID=America/Kentucky/Louisville:20240321T113000
DTEND;TZID=America/Kentucky/Louisville:20240321T130000
DTSTAMP:20260424T104930
CREATED:20240227T190359Z
LAST-MODIFIED:20240315T030140Z
UID:54876-1711020600-1711026000@prsabluegrass.org
SUMMARY:Navigating Artificial Intelligence in PR and Communications
DESCRIPTION:Mark your calendars for our March program\, “Navigating Artificial Intelligence in PR and Communications\,” on Thursday\, March 21\, atat the Flash Cube Building/Hurstbourne Place’s 2nd Floor Community Room. \nThis insightful discussion will feature a panel of industry experts delving into the utilization of AI in communications. We will explore the latest tools and emerging trends\, dissect best practices alongside ethical considerations\, and discuss AI’s future trajectory. Networking will begin at 11:30 a.m.\, and the panel discussion will start at 1 p.m. \nSpeakers: \n– Nick Stewart – Registered Patent Attorney at Stites & Harbison\, PLLC\n– Luke Elliott –  Global Intelligence Director for Integrated Marketing Communications at Brown-Forman Brands\n– Jenna Ahern – Founder & CEO at Guardian Owl Digital \nNick assists individual inventors\, in-house counsel\, and multi-million dollar companies in securing patents for their innovations. With a diverse technical background rooted in biotechnology\, physics and computer science\, he routinely helps translate mechanical-\, life science-\, medical device- and software-based inventions into issued patents in the U.S. and abroad. In addition to patent application preparation and prosecution\, he also assists clients with a variety of other intellectual property-based services\, including preparing patentability analyses\, freedom to operate opinions and procuring trademarks and copyrights for his clients. \nLuke seeks to make data more friendly through technology-enabled systems and analytics tools. Much of his work focuses on creating and implementing systems for automating data collection\, visualization\, and analysis using digital behavioral indicator data\, including internet search\, social and web conversation\, online advertising\, and online news. He champions the intersection of both art and science and strives to unlock the potential of analytics by empowering people to be more comfortable with data. \nJenna embodies the convergence of competitive spirit\, digital marketing prowess\, and AI innovation. Her foray into digital marketing\, particularly in SEO\, has been complemented by an innovative use of AI technologies to push the boundaries of what’s possible in digital communication and marketing strategies. This blend of AI and digital marketing expertise has established Ahern as a key speaker at national forums\, including the Women In Digital National Conference\, Integrating Women Leaders Conference\, Women In Tech Global Conference\, and ESPNW Campus Conversations.  \nTickets are $20 for members and $35 for non-members. All tickets include lunch. Register now: https://momence.com/s/100161232 \n 
URL:https://prsabluegrass.org/event/navigating-artificial-intelligence-in-pr-and-communications/
LOCATION:KY
ATTACH;FMTTYPE=image/png:https://prsabluegrass.org/wp-content/uploads/2024/02/Leading-the-Way-From-Crisis-to-Resilience-7.png
END:VEVENT
END:VCALENDAR