BEGIN:VCALENDAR
VERSION:2.0
PRODID:-//PRSA Bluegrass - ECPv6.15.11//NONSGML v1.0//EN
CALSCALE:GREGORIAN
METHOD:PUBLISH
X-ORIGINAL-URL:https://prsabluegrass.org
X-WR-CALDESC:Events for PRSA Bluegrass
REFRESH-INTERVAL;VALUE=DURATION:PT1H
X-Robots-Tag:noindex
X-PUBLISHED-TTL:PT1H
BEGIN:VTIMEZONE
TZID:America/Kentucky/Louisville
BEGIN:DAYLIGHT
TZOFFSETFROM:-0500
TZOFFSETTO:-0400
TZNAME:EDT
DTSTART:20220313T070000
END:DAYLIGHT
BEGIN:STANDARD
TZOFFSETFROM:-0400
TZOFFSETTO:-0500
TZNAME:EST
DTSTART:20221106T060000
END:STANDARD
BEGIN:DAYLIGHT
TZOFFSETFROM:-0500
TZOFFSETTO:-0400
TZNAME:EDT
DTSTART:20230312T070000
END:DAYLIGHT
BEGIN:STANDARD
TZOFFSETFROM:-0400
TZOFFSETTO:-0500
TZNAME:EST
DTSTART:20231105T060000
END:STANDARD
BEGIN:DAYLIGHT
TZOFFSETFROM:-0500
TZOFFSETTO:-0400
TZNAME:EDT
DTSTART:20240310T070000
END:DAYLIGHT
BEGIN:STANDARD
TZOFFSETFROM:-0400
TZOFFSETTO:-0500
TZNAME:EST
DTSTART:20241103T060000
END:STANDARD
END:VTIMEZONE
BEGIN:VEVENT
DTSTART;TZID=America/Kentucky/Louisville:20230713T120000
DTEND;TZID=America/Kentucky/Louisville:20230713T130000
DTSTAMP:20260424T224530
CREATED:20230623T125802Z
LAST-MODIFIED:20230630T131149Z
UID:54738-1689249600-1689253200@prsabluegrass.org
SUMMARY:Behind the Scenes of the Jack Harlow and KFC Partnership
DESCRIPTION:Interested in how a first-class combination between two hometown legends – KFC and Jack Harlow – was created? \nJoin us on Thursday\, July 13\, at noon for our July program\, “Behind the Scenes of the Jack Harlow and KFC partnership\,” at the KFC U.S. headquarters. \nThe CEO of NIMBUS\, Stacey Wade\, and KFC’s U.S. Director of Public Relations\, Lori Eberenz\, will offer a bite into what went into this finger-lickin’ partnership and lessons that you can apply to future collaborations. We’ll also eat like Jack Harlow with his signature meal provided by KFC. \nRSVP deadline is Wednesday\, July 5\, at 11:59 p.m.
URL:https://prsabluegrass.org/event/behind-the-scenes-of-the-jack-harlow-and-kfc-partnership/
LOCATION:KFC U.S. Headquarters\, 1900 Colonel Sanders Lane\, Louisville\, KY\, 40213\, United States
ATTACH;FMTTYPE=image/png:https://prsabluegrass.org/wp-content/uploads/2023/06/2.png
ORGANIZER;CN="PRSA Bluegrass":MAILTO:info@prsabluegrass.org
END:VEVENT
END:VCALENDAR