BEGIN:VCALENDAR
VERSION:2.0
PRODID:-//PRSA Bluegrass - ECPv6.15.11//NONSGML v1.0//EN
CALSCALE:GREGORIAN
METHOD:PUBLISH
X-ORIGINAL-URL:https://prsabluegrass.org
X-WR-CALDESC:Events for PRSA Bluegrass
REFRESH-INTERVAL;VALUE=DURATION:PT1H
X-Robots-Tag:noindex
X-PUBLISHED-TTL:PT1H
BEGIN:VTIMEZONE
TZID:America/Kentucky/Louisville
BEGIN:DAYLIGHT
TZOFFSETFROM:-0500
TZOFFSETTO:-0400
TZNAME:EDT
DTSTART:20240310T070000
END:DAYLIGHT
BEGIN:STANDARD
TZOFFSETFROM:-0400
TZOFFSETTO:-0500
TZNAME:EST
DTSTART:20241103T060000
END:STANDARD
BEGIN:DAYLIGHT
TZOFFSETFROM:-0500
TZOFFSETTO:-0400
TZNAME:EDT
DTSTART:20250309T070000
END:DAYLIGHT
BEGIN:STANDARD
TZOFFSETFROM:-0400
TZOFFSETTO:-0500
TZNAME:EST
DTSTART:20251102T060000
END:STANDARD
BEGIN:DAYLIGHT
TZOFFSETFROM:-0500
TZOFFSETTO:-0400
TZNAME:EDT
DTSTART:20260308T070000
END:DAYLIGHT
BEGIN:STANDARD
TZOFFSETFROM:-0400
TZOFFSETTO:-0500
TZNAME:EST
DTSTART:20261101T060000
END:STANDARD
END:VTIMEZONE
BEGIN:VEVENT
DTSTART;TZID=America/Kentucky/Louisville:20250724T170000
DTEND;TZID=America/Kentucky/Louisville:20250724T190000
DTSTAMP:20260423T202138
CREATED:20250701T215442Z
LAST-MODIFIED:20250701T215442Z
UID:55175-1753376400-1753383600@prsabluegrass.org
SUMMARY:PRSA / AAF - Summer Industry Meetup
DESCRIPTION:Join us for our July Happy Hour as we kick off our Summer Industry Meetup. \nWe’re teaming up with our friends at AAF-Louisville and ad2 Louisville for an evening of warm conversations and cold drinks at the new Goodwood Whiskey Row. Don’t miss this chance to connect with industry professionals\, relax\, and enjoy the summer vibes. \n📆 Thursday\, July 24\, 2025\n🕐 5 PM – 7 PM\n📍 Goodwood Whiskey Row \nThis is a free event. \nRSVP HERE.
URL:https://prsabluegrass.org/event/prsa-aaf-summer-industry-meetup/
LOCATION:KY
ATTACH;FMTTYPE=image/png:https://prsabluegrass.org/wp-content/uploads/2025/07/July-Meetup-Email-2160x1080-1.png
END:VEVENT
END:VCALENDAR