BEGIN:VCALENDAR
VERSION:2.0
PRODID:-//PRSA Bluegrass - ECPv6.15.11//NONSGML v1.0//EN
CALSCALE:GREGORIAN
METHOD:PUBLISH
X-ORIGINAL-URL:https://prsabluegrass.org
X-WR-CALDESC:Events for PRSA Bluegrass
REFRESH-INTERVAL;VALUE=DURATION:PT1H
X-Robots-Tag:noindex
X-PUBLISHED-TTL:PT1H
BEGIN:VTIMEZONE
TZID:America/Kentucky/Louisville
BEGIN:DAYLIGHT
TZOFFSETFROM:-0500
TZOFFSETTO:-0400
TZNAME:EDT
DTSTART:20240310T070000
END:DAYLIGHT
BEGIN:STANDARD
TZOFFSETFROM:-0400
TZOFFSETTO:-0500
TZNAME:EST
DTSTART:20241103T060000
END:STANDARD
BEGIN:DAYLIGHT
TZOFFSETFROM:-0500
TZOFFSETTO:-0400
TZNAME:EDT
DTSTART:20250309T070000
END:DAYLIGHT
BEGIN:STANDARD
TZOFFSETFROM:-0400
TZOFFSETTO:-0500
TZNAME:EST
DTSTART:20251102T060000
END:STANDARD
BEGIN:DAYLIGHT
TZOFFSETFROM:-0500
TZOFFSETTO:-0400
TZNAME:EDT
DTSTART:20260308T070000
END:DAYLIGHT
BEGIN:STANDARD
TZOFFSETFROM:-0400
TZOFFSETTO:-0500
TZNAME:EST
DTSTART:20261101T060000
END:STANDARD
END:VTIMEZONE
BEGIN:VEVENT
DTSTART;TZID=America/Kentucky/Louisville:20250701T113000
DTEND;TZID=America/Kentucky/Louisville:20250701T130000
DTSTAMP:20260423T182832
CREATED:20250616T015434Z
LAST-MODIFIED:20250616T015434Z
UID:55158-1751369400-1751374800@prsabluegrass.org
SUMMARY:Meet the Media with Louisville Business First
DESCRIPTION:Join us for our “Meet the Media” event with the Louisville Business First team!\nThis event will feature a discussion and meet-and-greet with members of the Business First newsroom\, offering insight into how they report the news and share local business stories. Attendees will also enjoy a behind-the-scenes tour of their offices. \nThe event will occur on Tuesday\, July 1\, 2025\, from 11:30-1 p.m. A boxed lunch will be provided. \nTickets are $25 for PRSA members and $35 for non-members. \nRSVP here.
URL:https://prsabluegrass.org/event/meet-the-media-with-louisville-business-first/
LOCATION:KY
ATTACH;FMTTYPE=image/png:https://prsabluegrass.org/wp-content/uploads/2025/06/Meet-the-Media-Biz-First.png
END:VEVENT
END:VCALENDAR