BEGIN:VCALENDAR
VERSION:2.0
PRODID:-//PRSA Bluegrass - ECPv6.15.11//NONSGML v1.0//EN
CALSCALE:GREGORIAN
METHOD:PUBLISH
X-ORIGINAL-URL:https://prsabluegrass.org
X-WR-CALDESC:Events for PRSA Bluegrass
REFRESH-INTERVAL;VALUE=DURATION:PT1H
X-Robots-Tag:noindex
X-PUBLISHED-TTL:PT1H
BEGIN:VTIMEZONE
TZID:America/Kentucky/Louisville
BEGIN:DAYLIGHT
TZOFFSETFROM:-0500
TZOFFSETTO:-0400
TZNAME:EDT
DTSTART:20240310T070000
END:DAYLIGHT
BEGIN:STANDARD
TZOFFSETFROM:-0400
TZOFFSETTO:-0500
TZNAME:EST
DTSTART:20241103T060000
END:STANDARD
BEGIN:DAYLIGHT
TZOFFSETFROM:-0500
TZOFFSETTO:-0400
TZNAME:EDT
DTSTART:20250309T070000
END:DAYLIGHT
BEGIN:STANDARD
TZOFFSETFROM:-0400
TZOFFSETTO:-0500
TZNAME:EST
DTSTART:20251102T060000
END:STANDARD
BEGIN:DAYLIGHT
TZOFFSETFROM:-0500
TZOFFSETTO:-0400
TZNAME:EDT
DTSTART:20260308T070000
END:DAYLIGHT
BEGIN:STANDARD
TZOFFSETFROM:-0400
TZOFFSETTO:-0500
TZNAME:EST
DTSTART:20261101T060000
END:STANDARD
END:VTIMEZONE
BEGIN:VEVENT
DTSTART;TZID=America/Kentucky/Louisville:20250624T130000
DTEND;TZID=America/Kentucky/Louisville:20250624T140000
DTSTAMP:20260423T182833
CREATED:20250618T001322Z
LAST-MODIFIED:20250618T001322Z
UID:55162-1750770000-1750773600@prsabluegrass.org
SUMMARY:Acing Your Landmarks Entry
DESCRIPTION:Mark your calendars for our upcoming webinar: “Acing Your Landmarks Entry!” \nSubmissions for the 2025 Landmarks of Excellence Awards are opening soon. Before you dive into reviewing your work from the past year\, join us on Tuesday\, June 24 at 1 p.m. for expert insights on crafting standout entries. \nHear directly from three past award-winning companies as they share firsthand strategies for success. Don’t miss this opportunity to gain valuable tips and inspiration! \nRSVP HERE.
URL:https://prsabluegrass.org/event/acing-your-landmarks-entry/
LOCATION:KY
ATTACH;FMTTYPE=image/png:https://prsabluegrass.org/wp-content/uploads/2025/06/Copy-of-PRSA-Angela-Billings-Graphic.png
END:VEVENT
END:VCALENDAR