BEGIN:VCALENDAR
VERSION:2.0
PRODID:-//PRSA Bluegrass - ECPv6.15.11//NONSGML v1.0//EN
CALSCALE:GREGORIAN
METHOD:PUBLISH
X-ORIGINAL-URL:https://prsabluegrass.org
X-WR-CALDESC:Events for PRSA Bluegrass
REFRESH-INTERVAL;VALUE=DURATION:PT1H
X-Robots-Tag:noindex
X-PUBLISHED-TTL:PT1H
BEGIN:VTIMEZONE
TZID:America/Kentucky/Louisville
BEGIN:DAYLIGHT
TZOFFSETFROM:-0500
TZOFFSETTO:-0400
TZNAME:EDT
DTSTART:20240310T070000
END:DAYLIGHT
BEGIN:STANDARD
TZOFFSETFROM:-0400
TZOFFSETTO:-0500
TZNAME:EST
DTSTART:20241103T060000
END:STANDARD
BEGIN:DAYLIGHT
TZOFFSETFROM:-0500
TZOFFSETTO:-0400
TZNAME:EDT
DTSTART:20250309T070000
END:DAYLIGHT
BEGIN:STANDARD
TZOFFSETFROM:-0400
TZOFFSETTO:-0500
TZNAME:EST
DTSTART:20251102T060000
END:STANDARD
BEGIN:DAYLIGHT
TZOFFSETFROM:-0500
TZOFFSETTO:-0400
TZNAME:EDT
DTSTART:20260308T070000
END:DAYLIGHT
BEGIN:STANDARD
TZOFFSETFROM:-0400
TZOFFSETTO:-0500
TZNAME:EST
DTSTART:20261101T060000
END:STANDARD
END:VTIMEZONE
BEGIN:VEVENT
DTSTART;TZID=America/Kentucky/Louisville:20250415T123000
DTEND;TZID=America/Kentucky/Louisville:20250415T133000
DTSTAMP:20260423T115243
CREATED:20250403T144514Z
LAST-MODIFIED:20250403T144626Z
UID:55150-1744720200-1744723800@prsabluegrass.org
SUMMARY:Webinar: The Power of APR
DESCRIPTION:What’s the Accreditation in Public Relations (APR) all about? Join us on Tuesday\, April 15\, from 12:30 – 1:30pm for our FREE virtual event\, “The Power of APR.” During this informational webinar\, you’ll hear from three panelists about how the APR has made a difference in their careers. \nThis is a joint webinar between the PRSA Bluegrass and Thoroughbred Chapters. \nPanelists: \nAmeerah Palacios\, APR\nSenior Strategic Communications Lead\nHDR \nAmy Preske\, APR\nPresident\nBooze PR \nBrant Welch\, APR\nVice President\, Customer Experience Manager\nFarmers National Bank of Danville \nRegister HERE.
URL:https://prsabluegrass.org/event/webinar-the-power-of-apr/
LOCATION:KY
ATTACH;FMTTYPE=image/png:https://prsabluegrass.org/wp-content/uploads/2025/04/1200-x-628.png
END:VEVENT
END:VCALENDAR