BEGIN:VCALENDAR
VERSION:2.0
PRODID:-//PRSA Bluegrass - ECPv6.15.11//NONSGML v1.0//EN
CALSCALE:GREGORIAN
METHOD:PUBLISH
X-ORIGINAL-URL:https://prsabluegrass.org
X-WR-CALDESC:Events for PRSA Bluegrass
REFRESH-INTERVAL;VALUE=DURATION:PT1H
X-Robots-Tag:noindex
X-PUBLISHED-TTL:PT1H
BEGIN:VTIMEZONE
TZID:America/Kentucky/Louisville
BEGIN:DAYLIGHT
TZOFFSETFROM:-0500
TZOFFSETTO:-0400
TZNAME:EDT
DTSTART:20230312T070000
END:DAYLIGHT
BEGIN:STANDARD
TZOFFSETFROM:-0400
TZOFFSETTO:-0500
TZNAME:EST
DTSTART:20231105T060000
END:STANDARD
BEGIN:DAYLIGHT
TZOFFSETFROM:-0500
TZOFFSETTO:-0400
TZNAME:EDT
DTSTART:20240310T070000
END:DAYLIGHT
BEGIN:STANDARD
TZOFFSETFROM:-0400
TZOFFSETTO:-0500
TZNAME:EST
DTSTART:20241103T060000
END:STANDARD
BEGIN:DAYLIGHT
TZOFFSETFROM:-0500
TZOFFSETTO:-0400
TZNAME:EDT
DTSTART:20250309T070000
END:DAYLIGHT
BEGIN:STANDARD
TZOFFSETFROM:-0400
TZOFFSETTO:-0500
TZNAME:EST
DTSTART:20251102T060000
END:STANDARD
END:VTIMEZONE
BEGIN:VEVENT
DTSTART;TZID=America/Kentucky/Louisville:20241113T090000
DTEND;TZID=America/Kentucky/Louisville:20241113T100000
DTSTAMP:20260423T233729
CREATED:20241028T154355Z
LAST-MODIFIED:20241028T155302Z
UID:55063-1731488400-1731492000@prsabluegrass.org
SUMMARY:From Headlines to Highlights: A PR Insider's Perspective
DESCRIPTION:Join us on Wednesday\, Nov. 13\, from 9-10 a.m. at the Gheens Foundation Lodge at The Parklands of Floyds Fork for our November program\, “From Headlines to Highlights: A PR Insider’s Perspective.” During this panel\, former journalists and media members who have transitioned into public relations will share their unique journeys from the newsroom to the PR world. Attendees will gain insider tips on navigating the ever-evolving media landscape\, bridging the gap between journalists and PR practitioners\, and effectively telling stories that stand out.
URL:https://prsabluegrass.org/event/from-headlines-to-highlights-a-pr-insiders-perspective/
LOCATION:Gheens Foundation Lodge at The Parklands of Floyds Fork\, 1421 Beckley Creek Pkwy\, Louisvile\, KY\, 40245\, United States
ATTACH;FMTTYPE=image/png:https://prsabluegrass.org/wp-content/uploads/2024/10/68.png
END:VEVENT
END:VCALENDAR