BEGIN:VCALENDAR
VERSION:2.0
PRODID:-//PRSA Bluegrass - ECPv6.15.11//NONSGML v1.0//EN
CALSCALE:GREGORIAN
METHOD:PUBLISH
X-ORIGINAL-URL:https://prsabluegrass.org
X-WR-CALDESC:Events for PRSA Bluegrass
REFRESH-INTERVAL;VALUE=DURATION:PT1H
X-Robots-Tag:noindex
X-PUBLISHED-TTL:PT1H
BEGIN:VTIMEZONE
TZID:America/Kentucky/Louisville
BEGIN:DAYLIGHT
TZOFFSETFROM:-0500
TZOFFSETTO:-0400
TZNAME:EDT
DTSTART:20230312T070000
END:DAYLIGHT
BEGIN:STANDARD
TZOFFSETFROM:-0400
TZOFFSETTO:-0500
TZNAME:EST
DTSTART:20231105T060000
END:STANDARD
BEGIN:DAYLIGHT
TZOFFSETFROM:-0500
TZOFFSETTO:-0400
TZNAME:EDT
DTSTART:20240310T070000
END:DAYLIGHT
BEGIN:STANDARD
TZOFFSETFROM:-0400
TZOFFSETTO:-0500
TZNAME:EST
DTSTART:20241103T060000
END:STANDARD
BEGIN:DAYLIGHT
TZOFFSETFROM:-0500
TZOFFSETTO:-0400
TZNAME:EDT
DTSTART:20250309T070000
END:DAYLIGHT
BEGIN:STANDARD
TZOFFSETFROM:-0400
TZOFFSETTO:-0500
TZNAME:EST
DTSTART:20251102T060000
END:STANDARD
END:VTIMEZONE
BEGIN:VEVENT
DTSTART;TZID=America/Kentucky/Louisville:20240724T173000
DTEND;TZID=America/Kentucky/Louisville:20240724T193000
DTSTAMP:20260424T061723
CREATED:20240715T124405Z
LAST-MODIFIED:20240715T124405Z
UID:55023-1721842200-1721849400@prsabluegrass.org
SUMMARY:Happy Hour at Gravely Brewing
DESCRIPTION:Join us on Wednesday\, July 24\, from 5:30 p.m. to 7:30 p.m. for a happy hour at Gravely Bewing!\nPRSA Bluegrass Chapter members and non-members are invited to learn more about our organization and network among local public relations and communications professionals.
URL:https://prsabluegrass.org/event/happy-hour-at-gravely-brewing/
LOCATION:Gravely Brewing\, 514 Baxter Ave\, Louisvile\, KY\, 40204\, United States
ATTACH;FMTTYPE=image/png:https://prsabluegrass.org/wp-content/uploads/2024/07/PRSA-Graphics-37.png
END:VEVENT
END:VCALENDAR