BEGIN:VCALENDAR
VERSION:2.0
PRODID:-//PRSA Bluegrass - ECPv6.15.11//NONSGML v1.0//EN
CALSCALE:GREGORIAN
METHOD:PUBLISH
X-WR-CALNAME:PRSA Bluegrass
X-ORIGINAL-URL:https://prsabluegrass.org
X-WR-CALDESC:Events for PRSA Bluegrass
REFRESH-INTERVAL;VALUE=DURATION:PT1H
X-Robots-Tag:noindex
X-PUBLISHED-TTL:PT1H
BEGIN:VTIMEZONE
TZID:America/Kentucky/Louisville
BEGIN:DAYLIGHT
TZOFFSETFROM:-0500
TZOFFSETTO:-0400
TZNAME:EDT
DTSTART:20230312T070000
END:DAYLIGHT
BEGIN:STANDARD
TZOFFSETFROM:-0400
TZOFFSETTO:-0500
TZNAME:EST
DTSTART:20231105T060000
END:STANDARD
BEGIN:DAYLIGHT
TZOFFSETFROM:-0500
TZOFFSETTO:-0400
TZNAME:EDT
DTSTART:20240310T070000
END:DAYLIGHT
BEGIN:STANDARD
TZOFFSETFROM:-0400
TZOFFSETTO:-0500
TZNAME:EST
DTSTART:20241103T060000
END:STANDARD
BEGIN:DAYLIGHT
TZOFFSETFROM:-0500
TZOFFSETTO:-0400
TZNAME:EDT
DTSTART:20250309T070000
END:DAYLIGHT
BEGIN:STANDARD
TZOFFSETFROM:-0400
TZOFFSETTO:-0500
TZNAME:EST
DTSTART:20251102T060000
END:STANDARD
END:VTIMEZONE
BEGIN:VEVENT
DTSTART;TZID=America/Kentucky/Louisville:20240418T120000
DTEND;TZID=America/Kentucky/Louisville:20240418T130000
DTSTAMP:20260424T104732
CREATED:20240322T210458Z
LAST-MODIFIED:20240322T210808Z
UID:54904-1713441600-1713445200@prsabluegrass.org
SUMMARY:April Virtual APR Program: "Mastering Your APR: Your Roadmap to Achieving Accreditation in Public Relations"
DESCRIPTION:You’ve heard about the APR\, but what’s it all about? Here’s your opportunity to learn what goes into getting an APR and why you should pursue one now. \nJoin us on April 18 from noon to 1 p.m. for a virtual APR program\, “Mastering Your APR: Your Roadmap to Achieving Accreditation in Public Relations\,” to learn how to get started\, know where to find resources\, and get tips to prepare for the panel presentation and computerized exam. \nThis virtual event is FREE. \nHost: Ameerah Palacios\, APR\, CTA\, MBA\, national Senior Strategic Communications Lead\, HDR \nPRSA Bluegrass Accreditation Chair Ameerah Palacios has been accredited since November 2013 and leads the local APR cohort. \nTeams invite to be sent following registration. \nTo register\, click here.
URL:https://prsabluegrass.org/event/april-virtual-apr-program-mastering-your-apr-your-roadmap-to-achieving-accreditation-in-public-relations/
LOCATION:KY
ATTACH;FMTTYPE=image/png:https://prsabluegrass.org/wp-content/uploads/2024/03/PRSA-Graphics-10.png
END:VEVENT
END:VCALENDAR