BEGIN:VCALENDAR
VERSION:2.0
PRODID:-//PRSA Bluegrass - ECPv6.15.11//NONSGML v1.0//EN
CALSCALE:GREGORIAN
METHOD:PUBLISH
X-WR-CALNAME:PRSA Bluegrass
X-ORIGINAL-URL:https://prsabluegrass.org
X-WR-CALDESC:Events for PRSA Bluegrass
REFRESH-INTERVAL;VALUE=DURATION:PT1H
X-Robots-Tag:noindex
X-PUBLISHED-TTL:PT1H
BEGIN:VTIMEZONE
TZID:America/Kentucky/Louisville
BEGIN:DAYLIGHT
TZOFFSETFROM:-0500
TZOFFSETTO:-0400
TZNAME:EDT
DTSTART:20220313T070000
END:DAYLIGHT
BEGIN:STANDARD
TZOFFSETFROM:-0400
TZOFFSETTO:-0500
TZNAME:EST
DTSTART:20221106T060000
END:STANDARD
BEGIN:DAYLIGHT
TZOFFSETFROM:-0500
TZOFFSETTO:-0400
TZNAME:EDT
DTSTART:20230312T070000
END:DAYLIGHT
BEGIN:STANDARD
TZOFFSETFROM:-0400
TZOFFSETTO:-0500
TZNAME:EST
DTSTART:20231105T060000
END:STANDARD
BEGIN:DAYLIGHT
TZOFFSETFROM:-0500
TZOFFSETTO:-0400
TZNAME:EDT
DTSTART:20240310T070000
END:DAYLIGHT
BEGIN:STANDARD
TZOFFSETFROM:-0400
TZOFFSETTO:-0500
TZNAME:EST
DTSTART:20241103T060000
END:STANDARD
END:VTIMEZONE
BEGIN:VEVENT
DTSTART;TZID=America/Kentucky/Louisville:20231007T170000
DTEND;TZID=America/Kentucky/Louisville:20231007T190000
DTSTAMP:20260424T193629
CREATED:20230607T163156Z
LAST-MODIFIED:20230607T163156Z
UID:54723-1696698000-1696705200@prsabluegrass.org
SUMMARY:PRSA Bluegrass APR Cohort
DESCRIPTION:The PRSA Bluegrass APR Cohort provides 6 months of programming designed to prepare busy professionals to earn their APR accreditation. Each month we’ll cover a different topic included in the APR examination. With a group of peers and current APR holders for support\, you’ll be ready to earn your APR with confidence. Programming Includes 5 virtual events and an in-person APR bootcamp. \nCommunication Models and Theories Thursday\, May 11 | 5-7 PM | Virtual \nHistory Thursday\, June 8 | 5-7 PM | Virtual \nResearch Thursday\, July 13 | 5-7 PM | Virtual \nPlanning Thursday\, August 10 | 5-7 PM | Virtual \nEthics and Law Thursday\, September 14 | 5-7 PM | Virtual \nAPR Bootcamp Saturday\, October 7 | 9 AM – 1 PM | In Person \nTo view the steps of the APR\, click here. To learn more about the APR exam\, click here. \nClick here to register for the PRSA APR cohort.
URL:https://prsabluegrass.org/event/prsa-bluegrass-apr-cohort-2023-10-07/
LOCATION:KY
ATTACH;FMTTYPE=image/png:https://prsabluegrass.org/wp-content/uploads/2023/06/June-8-e1686155601506.png
END:VEVENT
END:VCALENDAR